BEGIN:VCALENDAR
VERSION:2.0
PRODID:-//SG &quot;Zentrum&quot; Engensen - ECPv6.15.20//NONSGML v1.0//EN
CALSCALE:GREGORIAN
METHOD:PUBLISH
X-WR-CALNAME:SG &quot;Zentrum&quot; Engensen
X-ORIGINAL-URL:https://sg-zentrum-engensen.de
X-WR-CALDESC:Veranstaltungen für SG &quot;Zentrum&quot; Engensen
REFRESH-INTERVAL;VALUE=DURATION:PT1H
X-Robots-Tag:noindex
X-PUBLISHED-TTL:PT1H
BEGIN:VTIMEZONE
TZID:Europe/Berlin
BEGIN:DAYLIGHT
TZOFFSETFROM:+0100
TZOFFSETTO:+0200
TZNAME:CEST
DTSTART:20250330T010000
END:DAYLIGHT
BEGIN:STANDARD
TZOFFSETFROM:+0200
TZOFFSETTO:+0100
TZNAME:CET
DTSTART:20251026T010000
END:STANDARD
BEGIN:DAYLIGHT
TZOFFSETFROM:+0100
TZOFFSETTO:+0200
TZNAME:CEST
DTSTART:20260329T010000
END:DAYLIGHT
BEGIN:STANDARD
TZOFFSETFROM:+0200
TZOFFSETTO:+0100
TZNAME:CET
DTSTART:20261025T010000
END:STANDARD
BEGIN:DAYLIGHT
TZOFFSETFROM:+0100
TZOFFSETTO:+0200
TZNAME:CEST
DTSTART:20270328T010000
END:DAYLIGHT
BEGIN:STANDARD
TZOFFSETFROM:+0200
TZOFFSETTO:+0100
TZNAME:CET
DTSTART:20271031T010000
END:STANDARD
END:VTIMEZONE
BEGIN:VEVENT
DTSTART;TZID=Europe/Berlin:20260424T190000
DTEND;TZID=Europe/Berlin:20260424T190000
DTSTAMP:20260420T051805
CREATED:20240228T072631Z
LAST-MODIFIED:20260209T133957Z
UID:252-1777057200-1777057200@sg-zentrum-engensen.de
SUMMARY:WEB Scheunenfete
DESCRIPTION:
URL:https://sg-zentrum-engensen.de/event/web-scheunenfete/
CATEGORIES:Öffentliche Veranstaltung,WEB Engensen
END:VEVENT
BEGIN:VEVENT
DTSTART;TZID=Europe/Berlin:20260501T110000
DTEND;TZID=Europe/Berlin:20260501T170000
DTSTAMP:20260420T051805
CREATED:20240228T073054Z
LAST-MODIFIED:20260209T133944Z
UID:255-1777633200-1777654800@sg-zentrum-engensen.de
SUMMARY:Maibaum Aufstellen
DESCRIPTION:Das traditionelle Aufstellen des Maibaumes wird auch in diesem Jahr wieder vom Ortsrat\, unter Mithilfe der örtlichen Vereine und Verbände\, auf dem Dorfplatz organisiert.
URL:https://sg-zentrum-engensen.de/event/maibaum-aufstellen/
LOCATION:Dorfplatz\, Am Dorfteich\, Engensen\, 30938
CATEGORIES:Öffentliche Veranstaltung,Ortsrat
END:VEVENT
BEGIN:VEVENT
DTSTART;TZID=Europe/Berlin:20260605T170000
DTEND;TZID=Europe/Berlin:20260605T220000
DTSTAMP:20260420T051805
CREATED:20260208T190216Z
LAST-MODIFIED:20260209T134015Z
UID:364-1780678800-1780696800@sg-zentrum-engensen.de
SUMMARY:Dorfpokalschiessen
DESCRIPTION:
URL:https://sg-zentrum-engensen.de/event/dorfpokalschiessen/
LOCATION:Schützenheim\, Am Dorfteich\, Engensen\, 30938\, Deutschland
CATEGORIES:Öffentliche Veranstaltung,SG Zentrum
ORGANIZER;CN="SG Engensen":MAILTO:info@sg-engensen.de
END:VEVENT
BEGIN:VEVENT
DTSTART;TZID=Europe/Berlin:20260606T110000
DTEND;TZID=Europe/Berlin:20260606T190000
DTSTAMP:20260420T051805
CREATED:20260208T190349Z
LAST-MODIFIED:20260209T134135Z
UID:366-1780743600-1780772400@sg-zentrum-engensen.de
SUMMARY:Königsschießen und Proklamation
DESCRIPTION:
URL:https://sg-zentrum-engensen.de/event/koenigsschiessen-und-proklamation/
LOCATION:Schützenheim\, Am Dorfteich\, Engensen\, 30938\, Deutschland
CATEGORIES:Öffentliche Veranstaltung,SG Zentrum
ORGANIZER;CN="SG Engensen":MAILTO:info@sg-engensen.de
END:VEVENT
BEGIN:VEVENT
DTSTART;VALUE=DATE:20260619
DTEND;VALUE=DATE:20260621
DTSTAMP:20260420T051805
CREATED:20240228T075143Z
LAST-MODIFIED:20260208T185052Z
UID:272-1781827200-1781999999@sg-zentrum-engensen.de
SUMMARY:Volks- und Schützenfest Engensen
DESCRIPTION:
URL:https://sg-zentrum-engensen.de/event/schuetzenfest/
LOCATION:Schützenplatz\, Karl-Jäger-Weg\, Engensen\, 30938
CATEGORIES:Öffentliche Veranstaltung,SG Zentrum
ORGANIZER;CN="SG Engensen":MAILTO:info@sg-engensen.de
END:VEVENT
BEGIN:VEVENT
DTSTART;VALUE=DATE:20260627
DTEND;VALUE=DATE:20260629
DTSTAMP:20260420T051805
CREATED:20260208T190528Z
LAST-MODIFIED:20260209T134118Z
UID:368-1782518400-1782691199@sg-zentrum-engensen.de
SUMMARY:Volleyballturnier
DESCRIPTION:
URL:https://sg-zentrum-engensen.de/event/volleyballturnier/
LOCATION:Sportplatz Engensen\, Karl-Jäger-Weg\, Engenen\, 30938
CATEGORIES:Öffentliche Veranstaltung,TSV Engensen
END:VEVENT
BEGIN:VEVENT
DTSTART;VALUE=DATE:20260829
DTEND;VALUE=DATE:20260830
DTSTAMP:20260420T051805
CREATED:20260208T190718Z
LAST-MODIFIED:20260209T134044Z
UID:370-1787961600-1788047999@sg-zentrum-engensen.de
SUMMARY:WEB Lebendkicker
DESCRIPTION:
URL:https://sg-zentrum-engensen.de/event/web-lebendkicker/
LOCATION:Sportplatz Engensen\, Karl-Jäger-Weg\, Engenen\, 30938
CATEGORIES:Öffentliche Veranstaltung,WEB Engensen
END:VEVENT
BEGIN:VEVENT
DTSTART;TZID=Europe/Berlin:20260905T180000
DTEND;TZID=Europe/Berlin:20260905T230000
DTSTAMP:20260420T051805
CREATED:20240228T081701Z
LAST-MODIFIED:20260208T185621Z
UID:295-1788631200-1788649200@sg-zentrum-engensen.de
SUMMARY:Heideblütenfest
DESCRIPTION:Heideblütenfest der Traditionskameradschaft Engensen
URL:https://sg-zentrum-engensen.de/event/heidebluetenfest/
LOCATION:Schützenheim\, Am Dorfteich\, Engensen\, 30938\, Deutschland
CATEGORIES:Öffentliche Veranstaltung,Traditionskameradschaft
END:VEVENT
BEGIN:VEVENT
DTSTART;TZID=Europe/Berlin:20260906T100000
DTEND;TZID=Europe/Berlin:20260906T150000
DTSTAMP:20260420T051805
CREATED:20240228T081925Z
LAST-MODIFIED:20260209T134055Z
UID:298-1788688800-1788706800@sg-zentrum-engensen.de
SUMMARY:Jazz-Frühschoppen
DESCRIPTION:Frühschoppen der CDU Engensen mit Livemusik
URL:https://sg-zentrum-engensen.de/event/cdu-fruehschoppen/
LOCATION:Biergarten Engensen
CATEGORIES:CDU Engensen,Öffentliche Veranstaltung
END:VEVENT
BEGIN:VEVENT
DTSTART;TZID=Europe/Berlin:20261106T180000
DTEND;TZID=Europe/Berlin:20261106T200000
DTSTAMP:20260420T051805
CREATED:20260208T190849Z
LAST-MODIFIED:20260209T134104Z
UID:372-1793988000-1793995200@sg-zentrum-engensen.de
SUMMARY:Laternenumzug
DESCRIPTION:
URL:https://sg-zentrum-engensen.de/event/laternenumzug/
LOCATION:Dorfplatz\, Am Dorfteich\, Engensen\, 30938
CATEGORIES:Feuerwehr,Öffentliche Veranstaltung
END:VEVENT
BEGIN:VEVENT
DTSTART;TZID=Europe/Berlin:20261114T130000
DTEND;TZID=Europe/Berlin:20261114T220000
DTSTAMP:20260420T051805
CREATED:20230906T083834Z
LAST-MODIFIED:20260208T185900Z
UID:159-1794661200-1794693600@sg-zentrum-engensen.de
SUMMARY:Bosseln der Schützen
DESCRIPTION:Details folgen
URL:https://sg-zentrum-engensen.de/event/bosseln/
LOCATION:Schützenheim\, Am Dorfteich\, Engensen\, 30938\, Deutschland
CATEGORIES:Interne Veranstaltung,SG Engensen
ORGANIZER;CN="SG Engensen":MAILTO:info@sg-engensen.de
END:VEVENT
BEGIN:VEVENT
DTSTART;TZID=Europe/Berlin:20261115T100000
DTEND;TZID=Europe/Berlin:20261115T110000
DTSTAMP:20260420T051805
CREATED:20240228T082126Z
LAST-MODIFIED:20260208T185440Z
UID:302-1794736800-1794740400@sg-zentrum-engensen.de
SUMMARY:Volkstrauertag
DESCRIPTION:
URL:https://sg-zentrum-engensen.de/event/volkstrauertag/
LOCATION:Dorfplatz\, Am Dorfteich\, Engensen\, 30938
CATEGORIES:Öffentliche Veranstaltung,Ortsrat
END:VEVENT
BEGIN:VEVENT
DTSTART;TZID=Europe/Berlin:20261212T190000
DTEND;TZID=Europe/Berlin:20261212T230000
DTSTAMP:20260420T051805
CREATED:20240228T082337Z
LAST-MODIFIED:20260208T185220Z
UID:304-1797102000-1797116400@sg-zentrum-engensen.de
SUMMARY:Schützen Weihnachstfeier
DESCRIPTION:Weihnachtsfeier der SG „Zentrum“ Engensen
URL:https://sg-zentrum-engensen.de/event/weihnachstfeier/
LOCATION:Schützenheim\, Am Dorfteich\, Engensen\, 30938\, Deutschland
CATEGORIES:Öffentliche Veranstaltung,SG Zentrum
ORGANIZER;CN="SG Engensen":MAILTO:info@sg-engensen.de
END:VEVENT
END:VCALENDAR